BEGIN:VCALENDAR
VERSION:2.0
PRODID:-//eventon.com NONSGML v1.0//EN
CALSCALE:GREGORIAN
METHOD:PUBLISH
BEGIN:VEVENT
UID:69ecf959a3595
DTSTAMP:20260425T172649Z
DTSTART:19700101T050000Z
DTEND:19700101T050000Z
LOCATION:Insertech (formations - salle communautaire) 4820 rue Molson\,  Montréal
SUMMARY:FACEBOOK ET LES RÉSEAUX SOCIAUX - 2024-02-07
DESCRIPTION:Cet atelier vous proposent de discuter de Facebook et des autre
 s réseaux sociaux (Instagram\,  Twitter\,  Pinterest\,  Etc). Ils s’adre
 ssent autant à ceux qui veulent les découvrir qu’à ceux qui veulent en
  améliorer leur utilisation.\nhttps://insertech.ca/en/events/facebook-et-l
 es-reseaux-sociaux-2024-02-07/
URL:https://insertech.ca/en/events/facebook-et-les-reseaux-sociaux-2024-02-07/
END:VEVENT
END:VCALENDAR