BEGIN:VCALENDAR
VERSION:2.0
PRODID:-//eventon.com NONSGML v1.0//EN
CALSCALE:GREGORIAN
METHOD:PUBLISH
BEGIN:VEVENT
UID:69e824e0068c5
DTSTAMP:20260422T013112Z
DTSTART:19700101T050000Z
DTEND:19700101T050000Z
LOCATION:Insertech (formations - salle communautaire) 4820 rue Molson\,  Montréal
SUMMARY:PROLONGEZ LA DURÉE DE VIE DE VOTRE ORDINATEUR WINDOWS 10 - 2024-03-22
DESCRIPTION:Dans cet atelier d’une durée de deux heures axé sur la trou
 sse en ligne d&#8217;Insertech\,  décortiquez l’anatomie de votre ordina
 teur Windows 10 et apprenez des trucs et astuces pour le garder plus longte
 mps. Atelierour ordinateur avec Windows 10 seulement\nhttps://insertech.ca/
 en/events/prolongez-la-duree-de-vie-de-votre-ordinateur-windows-10-2024-03-
 22/
URL:https://insertech.ca/en/events/prolongez-la-duree-de-vie-de-votre-ordinateur-windows-10-2024-03-22/
END:VEVENT
END:VCALENDAR