BEGIN:VCALENDAR
VERSION:2.0
PRODID:-//eventon.com NONSGML v1.0//EN
CALSCALE:GREGORIAN
METHOD:PUBLISH
BEGIN:VEVENT
UID:69e76bda13749
DTSTAMP:20260421T122146Z
DTSTART:20250402T143000Z
DTEND:20250402T163000Z
LOCATION:Insertech (formations - salle communautaire) 4820 rue Molson\,  Montréal
SUMMARY:Découvrir les réseaux sociaux
DESCRIPTION:Rejoignez-nous pour un atelier interactif sur la découverte de
 s réseaux sociaux ! Que vous soyez novice ou que vous souhaitiez approfond
 ir vos connaissances\,  cet atelier est conçu pour vous aider à comprendr
 e et à utiliser efficacement les principales plateformes de réseaux socia
 ux. Introduction aux réseaux sociaux : Familiarisez-vous avec les différ
 entes[..]\nhttps://insertech.ca/en/events/decouvrir-reseaux-sociaux/
URL:https://insertech.ca/en/events/decouvrir-reseaux-sociaux/
END:VEVENT
END:VCALENDAR