BEGIN:VCALENDAR
VERSION:2.0
PRODID:-//eventon.com NONSGML v1.0//EN
CALSCALE:GREGORIAN
METHOD:PUBLISH
BEGIN:VEVENT
UID:69ea7ab610a09
DTSTAMP:20260423T200158Z
DTSTART:19700101T050000Z
DTEND:19700101T050000Z
LOCATION:Insertech (formations - salle communautaire) 4820 rue Molson\,  Montréal
SUMMARY:UTILISER LES OUTILS BUREAUTIQUES - 2024-02-07
DESCRIPTION:La suite Microsoft Office (Word\,  Excel\,  PowerPoint\,  Outlo
 ok\,  Publisher) et les alternatives gratuites.\nhttps://insertech.ca/event
 s/utiliser-les-outils-bureautiques-2024-02-07/
URL:https://insertech.ca/events/utiliser-les-outils-bureautiques-2024-02-07/
END:VEVENT
END:VCALENDAR