BEGIN:VCALENDAR
VERSION:2.0
PRODID:-//eventon.com NONSGML v1.0//EN
CALSCALE:GREGORIAN
METHOD:PUBLISH
BEGIN:VEVENT
UID:69eb9715c9d7c
DTSTAMP:20260424T161517Z
DTSTART:20250528T143000Z
DTEND:20250528T163000Z
LOCATION:Insertech (formations - salle communautaire) 4820 rue Molson\,  MontrÃ©al
SUMMARY:GÃ©rer ses fichiers
DESCRIPTION:Rejoignez-nous pour un atelier interactif et pratique sur la ge
 stion de vos fichiers ! Que vous soyez dÃ©butant ou que vous souhaitiez amÃ
 ©liorer vos compÃ©tences en organisation numÃ©rique\,  cet atelier est conÃ
 §u pour vous fournir les connaissances nÃ©cessaires pour gÃ©rer efficacemen
 t vos fichiers et dossiers. Organisation des fichiersÂ : Apprenez Ã [..]\nh
 ttps://insertech.ca/events/gerer-fichiers/
URL:https://insertech.ca/events/gerer-fichiers/
END:VEVENT
END:VCALENDAR