BEGIN:VCALENDAR
VERSION:2.0
PRODID:-//eventon.com NONSGML v1.0//EN
CALSCALE:GREGORIAN
METHOD:PUBLISH
BEGIN:VEVENT
UID:69ecc60d2cc66
DTSTAMP:20260425T134757Z
DTSTART:20250618T140000Z
DTEND:20250618T153000Z
LOCATION:https://us06web.zoom.us/j/86480412347
SUMMARY:Découvrir l'Intelligence Artificielle
DESCRIPTION:Vous souhaitez découvrir comment les outils d&#8217;intelligen
 ce artificielle peuvent transformer votre façon de travailler et de créer
  ? Rejoignez-nous pour un atelier en ligne interactif où nous explorerons 
 les applications pratiques de l&#8217;IA avec des outils puissants comme Co
 pilot\,  Gemini\,  ChatGPT\,  et bien d&#8217;autres. Ce que vous apprendre
 z : Les[..]\nhttps://insertech.ca/events/decouvrir-lintelligence-artificiel
 le/
URL:https://insertech.ca/events/decouvrir-lintelligence-artificielle/
END:VEVENT
END:VCALENDAR