BEGIN:VCALENDAR
VERSION:2.0
PRODID:-//eventon.com NONSGML v1.0//EN
CALSCALE:GREGORIAN
METHOD:PUBLISH
BEGIN:VEVENT
UID:69e4f3e0e5500
DTSTAMP:20260419T152520Z
DTSTART:20250608T120000Z
DTEND:20250612T010000Z
LOCATION:
SUMMARY:Vente d'entrepôt en ligne
DESCRIPTION:Pour celles et ceux qui sont trop loin pour profiter de notre v
 ente d&#8217;entrepôt physique\,  nous pensons aussi à vous ! la vente d&
 #8217;entrepôt en ligne\,  ce sont des promos à découvrir du 8 au 11 jui
 n Magasinez sur https://clients.insertech.ca Votre ordinateur n&#8217;est p
 lus réparable et vous êtes dans l&#8217;obligation[..]\nhttps://insertech
 .ca/events/vente-dentrepot-enligne-semaine-numerique-responsable-2025/
URL:https://insertech.ca/events/vente-dentrepot-enligne-semaine-numerique-responsable-2025/
END:VEVENT
END:VCALENDAR